BEGIN:VCALENDAR
VERSION:2.0
PRODID:-//wp-events-plugin.com//7.2.3.1//EN
TZID:Europe/Ljubljana
X-WR-TIMEZONE:Europe/Ljubljana
BEGIN:VEVENT
UID:626@loskadolina.info
DTSTART;TZID=Europe/Ljubljana:20250214T000000
DTEND;TZID=Europe/Ljubljana:20250214T000000
DTSTAMP:20260205T151750Z
URL:https://www.loskadolina.info/dogodki/zdravo-jem/
SUMMARY:Zdravo jem
DESCRIPTION:ZDRAVO JEMZdravstveni dom Stari trg14.2.2025 ob 8.00\nDatum: 14
 .02.2025
LOCATION:ZD Stari trg\, \, 
X-APPLE-STRUCTURED-LOCATION;VALUE=URI;X-ADDRESS=\, ;X-APPLE-RADIUS=100;X-TI
 TLE=ZD Stari trg:geo:0,0
END:VEVENT
BEGIN:VTIMEZONE
TZID:Europe/Ljubljana
X-LIC-LOCATION:Europe/Ljubljana
BEGIN:STANDARD
DTSTART:20241027T020000
TZOFFSETFROM:+0200
TZOFFSETTO:+0100
TZNAME:CET
END:STANDARD
END:VTIMEZONE
END:VCALENDAR