BEGIN:VCALENDAR
VERSION:2.0
PRODID:-//wp-events-plugin.com//7.2.3.1//EN
TZID:Europe/Ljubljana
X-WR-TIMEZONE:Europe/Ljubljana
BEGIN:VEVENT
UID:559@loskadolina.info
DTSTART;TZID=Europe/Ljubljana:20250612T000000
DTEND;TZID=Europe/Ljubljana:20250612T000000
DTSTAMP:20260205T151751Z
URL:https://www.loskadolina.info/dogodki/odprtje-razstave-xii-ex-tempora-d
 ezela-ostrnic/
SUMMARY:Odprtje razstave XII EX-TEMPORA: DEŽELA OSTRNIC
DESCRIPTION:Vabljeni na odprtje razstava XII EX-TEMPORA: DEŽELA OSTRNIC\,
  ki bo 12.6.2025 ob 18. uri v gradu Snežnik.\nDatum: 12.06.2025
ATTACH;FMTTYPE=image/jpeg:https://www.loskadolina.info/wp-content/uploads/
 2026/02/imgb3b0a00ce97a663-1.jpg
LOCATION:Grad Snežnik\, \, 
X-APPLE-STRUCTURED-LOCATION;VALUE=URI;X-ADDRESS=\, ;X-APPLE-RADIUS=100;X-TI
 TLE=Grad Snežnik:geo:0,0
END:VEVENT
BEGIN:VTIMEZONE
TZID:Europe/Ljubljana
X-LIC-LOCATION:Europe/Ljubljana
BEGIN:DAYLIGHT
DTSTART:20250330T030000
TZOFFSETFROM:+0100
TZOFFSETTO:+0200
TZNAME:CEST
END:DAYLIGHT
END:VTIMEZONE
END:VCALENDAR