BEGIN:VCALENDAR
VERSION:2.0
PRODID:-//wp-events-plugin.com//7.2.3.1//EN
TZID:Europe/Ljubljana
X-WR-TIMEZONE:Europe/Ljubljana
BEGIN:VEVENT
UID:694@loskadolina.info
DTSTART;TZID=Europe/Ljubljana:20260508T080000
DTEND;TZID=Europe/Ljubljana:20260628T140000
DTSTAMP:20260424T104547Z
URL:https://www.loskadolina.info/dogodki/letna-razstava-likovnega-izobraze
 vanja-loska-dolina/
SUMMARY:Letna razstava likovnega izobraževanja Loška dolina
DESCRIPTION:Vabljeni na letno razstavo LIKOVNEGA IZOBRAŽEVANJA LOŠKA DOLI
 NA pod mentorstvom akademskih slikark Stanislave Sluga Pudobske in Karmen 
 Bajec.
ATTACH;FMTTYPE=image/jpeg:https://www.loskadolina.info/wp-content/uploads/
 2026/04/Karmen-Petric-scaled.jpg
CATEGORIES:Kultura,Medgeneracijski center
LOCATION:MGC Gaber\, Cesta Notranjskega odreda 45b\, STARI TRG PRI LOŽU\, 
 1386\, Slovenia
X-APPLE-STRUCTURED-LOCATION;VALUE=URI;X-ADDRESS=Cesta Notranjskega odreda 4
 5b\, STARI TRG PRI LOŽU\, 1386\, Slovenia;X-APPLE-RADIUS=100;X-TITLE=MGC 
 Gaber:geo:0,0
END:VEVENT
BEGIN:VTIMEZONE
TZID:Europe/Ljubljana
X-LIC-LOCATION:Europe/Ljubljana
BEGIN:DAYLIGHT
DTSTART:20260329T030000
TZOFFSETFROM:+0100
TZOFFSETTO:+0200
TZNAME:CEST
END:DAYLIGHT
END:VTIMEZONE
END:VCALENDAR