BEGIN:VCALENDAR
VERSION:2.0
PRODID:-//wp-events-plugin.com//7.2.3.1//EN
TZID:Europe/Ljubljana
X-WR-TIMEZONE:Europe/Ljubljana
BEGIN:VEVENT
UID:657@loskadolina.info
DTSTART;TZID=Europe/Ljubljana:20260317T080000
DTEND;TZID=Europe/Ljubljana:20260430T140000
DTSTAMP:20260422T122438Z
URL:https://www.loskadolina.info/dogodki/razstava-likovnih-del-milene-kras
 evec-predstavljam-se-tako/
SUMMARY:Razstava likovnih del MILENE KRAŠEVEC: Predstavljam se tako
DESCRIPTION:Do konca aprila 2026 vas vabimo na Medgeneracijski center Gaber
  k ogledu razstave likovnih del MILENE KRAŠEVEC: Predstavljam se tako.
ATTACH;FMTTYPE=image/jpeg:https://www.loskadolina.info/wp-content/uploads/
 2026/03/2026.jpg
CATEGORIES:Kultura,Medgeneracijski center
LOCATION:MGC Gaber\, Cesta Notranjskega odreda 45b\, STARI TRG PRI LOŽU\, 
 1386\, Slovenia
X-APPLE-STRUCTURED-LOCATION;VALUE=URI;X-ADDRESS=Cesta Notranjskega odreda 4
 5b\, STARI TRG PRI LOŽU\, 1386\, Slovenia;X-APPLE-RADIUS=100;X-TITLE=MGC 
 Gaber:geo:0,0
END:VEVENT
BEGIN:VEVENT
UID:665@loskadolina.info
DTSTART;TZID=Europe/Ljubljana;VALUE=DATE:20260406
DTEND;TZID=Europe/Ljubljana;VALUE=DATE:20260530
DTSTAMP:20260324T132712Z
URL:https://www.loskadolina.info/dogodki/kristjan-slokar-razstava-o-rapals
 ki-meji-na-cerkniskem-javornikih-in-snezniku/
SUMMARY:Kristjan Slokar: Razstava o Rapalski meji na Cerkniškem\, Javornik
 ih in Snežniku
DESCRIPTION:Razstava Kristjana Slokarja o Rapalski meji na Cerkniškem\, Ja
 vornikih in Snežniku.\n\n
ATTACH;FMTTYPE=image/jpeg:https://www.loskadolina.info/wp-content/uploads/
 2026/03/SPLETNA-STRAN-2026-2.png
CATEGORIES:Kultura
LOCATION:Knjižnica Stari trg\, \, 
X-APPLE-STRUCTURED-LOCATION;VALUE=URI;X-ADDRESS=\, ;X-APPLE-RADIUS=100;X-TI
 TLE=Knjižnica Stari trg:geo:0,0
END:VEVENT
BEGIN:VEVENT
UID:683@loskadolina.info
DTSTART;TZID=Europe/Ljubljana;VALUE=DATE:20260416
DTEND;TZID=Europe/Ljubljana;VALUE=DATE:20260530
DTSTAMP:20260420T122207Z
URL:https://www.loskadolina.info/dogodki/razstava-maj-pod-sneznikom/
SUMMARY:Razstava Maj pod Snežnikom
DESCRIPTION:FOTOGRAFSKA RAZSTAVA Nives Pišek
ATTACH;FMTTYPE=image/jpeg:https://www.loskadolina.info/wp-content/uploads/
 2026/03/SPLETNA-STRAN-2026-3.png
CATEGORIES:Kultura
LOCATION:Knjižnica Stari trg\, \, 
X-APPLE-STRUCTURED-LOCATION;VALUE=URI;X-ADDRESS=\, ;X-APPLE-RADIUS=100;X-TI
 TLE=Knjižnica Stari trg:geo:0,0
END:VEVENT
BEGIN:VEVENT
UID:690@loskadolina.info
DTSTART;TZID=Europe/Ljubljana;VALUE=DATE:20260416
DTEND;TZID=Europe/Ljubljana;VALUE=DATE:20260518
DTSTAMP:20260422T122155Z
URL:https://www.loskadolina.info/dogodki/razstava-kud-paleta-cerknica-doma
 -in-v-okolici/
SUMMARY:Razstava KUD Pa*leta Cerknica: Doma in v okolici
DESCRIPTION:Razstava bo na ogled do nedelje\, 17. maja 2026\, v času redne
 ga urnika ogledov Gradu Snežnik.
ATTACH;FMTTYPE=image/jpeg:https://www.loskadolina.info/wp-content/uploads/
 2026/04/675296165_921897500895130_5212597927842114668_n.jpg
CATEGORIES:Kultura
LOCATION:Grad Snežnik\, \, 
X-APPLE-STRUCTURED-LOCATION;VALUE=URI;X-ADDRESS=\, ;X-APPLE-RADIUS=100;X-TI
 TLE=Grad Snežnik:geo:0,0
END:VEVENT
BEGIN:VEVENT
UID:668@loskadolina.info
DTSTART;TZID=Europe/Ljubljana:20260424T180000
DTEND;TZID=Europe/Ljubljana:20260424T180000
DTSTAMP:20260421T113942Z
URL:https://www.loskadolina.info/dogodki/domine-z-grofico-greto/
SUMMARY:Domine z grofico Greto
DESCRIPTION:Ko se dan nagne proti večeru\, se ob mizah zbere družba z gro
 fico Greto. Kakor nekoč\, ob igri domin in prijetnem pogovoru. 
ATTACH;FMTTYPE=image/jpeg:https://www.loskadolina.info/wp-content/uploads/
 2026/03/SPLETNA-STRAN-2026-4.png
CATEGORIES:Drugo
LOCATION:Coffee bar Pristav'ca\, Kozarišče 69\, Stari trg pri Ložu\, Slo
 venia
X-APPLE-STRUCTURED-LOCATION;VALUE=URI;X-ADDRESS=Kozarišče 69\, Stari trg 
 pri Ložu\, Slovenia;X-APPLE-RADIUS=100;X-TITLE=Coffee bar Pristav'ca:geo:
 0,0
END:VEVENT
BEGIN:VEVENT
UID:646@loskadolina.info
DTSTART;TZID=Europe/Ljubljana;VALUE=DATE:20260425
DTEND;TZID=Europe/Ljubljana;VALUE=DATE:20260426
DTSTAMP:20260310T123501Z
URL:https://www.loskadolina.info/dogodki/drzavna-kinoloska-razstava-lovski
 h-psov-sneznik/
SUMMARY:Državna kinološka razstava lovskih psov Snežnik
DESCRIPTION:
CATEGORIES:Drugo
LOCATION:Grad Snežnik\, \, 
X-APPLE-STRUCTURED-LOCATION;VALUE=URI;X-ADDRESS=\, ;X-APPLE-RADIUS=100;X-TI
 TLE=Grad Snežnik:geo:0,0
END:VEVENT
BEGIN:VEVENT
UID:685@loskadolina.info
DTSTART;TZID=Europe/Ljubljana:20260425T143000
DTEND;TZID=Europe/Ljubljana:20260425T170000
DTSTAMP:20260420T122750Z
URL:https://www.loskadolina.info/dogodki/22-tek-na-krizno-goro/
SUMMARY:22. tek na Križno goro
DESCRIPTION:Smučarski klub Loška dolina organizira tradicionalni Tek na K
 rižno goro\, ki bo letos potekal v soboto\, 25.4.2026 ob 14.30 uri.\n\nTe
 k poteka na relaciji Lož – Sveta Ana – Križna gora.\n\nVabljeni!
ATTACH;FMTTYPE=image/jpeg:https://www.loskadolina.info/wp-content/uploads/
 2026/04/438086887_10222852121867035_7673961920891979599_n-2861011190.jpg
CATEGORIES:Šport
LOCATION:Lož\, \, 
X-APPLE-STRUCTURED-LOCATION;VALUE=URI;X-ADDRESS=\, ;X-APPLE-RADIUS=100;X-TI
 TLE=Lož:geo:0,0
END:VEVENT
BEGIN:VEVENT
UID:680@loskadolina.info
DTSTART;TZID=Europe/Ljubljana:20260425T150000
DTEND;TZID=Europe/Ljubljana:20260425T150000
DTSTAMP:20260417T092301Z
URL:https://www.loskadolina.info/dogodki/odprtje-zunanje-panojske-razstave
 -o-zofki-kveder/
SUMMARY:Odprtje zunanje panojske razstave o Zofki Kveder
DESCRIPTION:Občina Loški potek vabi na odprtje zunanje panojske razstave 
 o Zofki Kveder\, ki bo v soboto\, 25. aprila 2026\, ob 15. uri pri osnovni
  šoli na Hribu v Loškem Potoku (ob stranskem vhodu v 1. triado oziroma o
 b cesti na Tabor).\nRazstava obiskovalcu približa otroška in mladostna l
 eta Zofke Kveder v Loškem Potoku in okoliških krajih ter oriše področj
 a njenega delovanja tudi iz časa po tem\, ko jo je želja po samostojnost
 i odpeljala v svet in botrovala njenim številnim literarnim delom.\nZ raz
 stavo bodo počastili nacionalno leto Zofke Kveder\, ki ga je Vlada Republ
 ike Slovenije razglasila ob stoletnici njene smrti.\n&nbsp\;\n\n
ATTACH;FMTTYPE=image/jpeg:https://www.loskadolina.info/wp-content/uploads/
 2026/04/SPLETNA-STRAN-2026-8.png
CATEGORIES:Kultura
LOCATION:OŠ dr. Antona Debeljaka Loški Potok\, Hrib - Loški Potok 101\, 
 Loški Potok\, 1318 \, Slovenia
X-APPLE-STRUCTURED-LOCATION;VALUE=URI;X-ADDRESS=Hrib - Loški Potok 101\, L
 oški Potok\, 1318 \, Slovenia;X-APPLE-RADIUS=100;X-TITLE=OŠ dr. Antona D
 ebeljaka Loški Potok:geo:0,0
END:VEVENT
BEGIN:VEVENT
UID:681@loskadolina.info
DTSTART;TZID=Europe/Ljubljana;VALUE=DATE:20260426
DTEND;TZID=Europe/Ljubljana;VALUE=DATE:20260427
DTSTAMP:20260420T073844Z
URL:https://www.loskadolina.info/dogodki/pohod-po-krpanovi-poti/
SUMMARY:Pohod po Krpanovi poti
DESCRIPTION:Turistično društvo Bloke vas vabi na  24. pohod Po Krpanovi 
 poti\, ki bo v nedeljo 26.4.2026.\n\nVečinformacij: https://www.bloke.si/
 objava/263/pohod-po-krpanovi-poti-2026 
ATTACH;FMTTYPE=image/jpeg:https://www.loskadolina.info/wp-content/uploads/
 2026/04/SPLETNA-STRAN-2026.png
CATEGORIES:Šport,Turizem
LOCATION:Bloško jezero\, Volčje 97\, Nova vas\, 1385\, Slovenia
X-APPLE-STRUCTURED-LOCATION;VALUE=URI;X-ADDRESS=Volčje 97\, Nova vas\, 138
 5\, Slovenia;X-APPLE-RADIUS=100;X-TITLE=Bloško jezero:geo:0,0
END:VEVENT
BEGIN:VEVENT
UID:678@loskadolina.info
DTSTART;TZID=Europe/Ljubljana:20260428T090000
DTEND;TZID=Europe/Ljubljana:20260430T140000
DTSTAMP:20260417T083855Z
URL:https://www.loskadolina.info/dogodki/pocitniske-aktivnosti-v-mgc-gaber
 /
SUMMARY:Počitniške aktivnosti v MGC Gaber
DESCRIPTION:Ustvarjalna delavnica\, družabne igre\, učenje kavbojskega pl
 esa\, kulinarična delavnice.
ATTACH;FMTTYPE=image/jpeg:https://www.loskadolina.info/wp-content/uploads/
 2026/03/tocka-moci.jpg
CATEGORIES:Medgeneracijski center,Za otroke
LOCATION:MGC Gaber\, Cesta Notranjskega odreda 45b\, STARI TRG PRI LOŽU\, 
 1386\, Slovenia
X-APPLE-STRUCTURED-LOCATION;VALUE=URI;X-ADDRESS=Cesta Notranjskega odreda 4
 5b\, STARI TRG PRI LOŽU\, 1386\, Slovenia;X-APPLE-RADIUS=100;X-TITLE=MGC 
 Gaber:geo:0,0
END:VEVENT
BEGIN:VEVENT
UID:647@loskadolina.info
DTSTART;TZID=Europe/Ljubljana;VALUE=DATE:20260501
DTEND;TZID=Europe/Ljubljana;VALUE=DATE:20260502
DTSTAMP:20260422T122459Z
URL:https://www.loskadolina.info/dogodki/grajski-punkt/
SUMMARY:3. Grajski punkt
DESCRIPTION:Vabljeni\, da se na prvomajski dan udeležite dogajanja pri gra
 du Snežnik.
ATTACH;FMTTYPE=image/jpeg:https://www.loskadolina.info/wp-content/uploads/
 2026/03/SPLETNA-STRAN-2026-9.png
CATEGORIES:Kultura
LOCATION:Grad Snežnik\, \, 
X-APPLE-STRUCTURED-LOCATION;VALUE=URI;X-ADDRESS=\, ;X-APPLE-RADIUS=100;X-TI
 TLE=Grad Snežnik:geo:0,0
END:VEVENT
BEGIN:VEVENT
UID:682@loskadolina.info
DTSTART;TZID=Europe/Ljubljana;VALUE=DATE:20260502
DTEND;TZID=Europe/Ljubljana;VALUE=DATE:20260503
DTSTAMP:20260422T122644Z
URL:https://www.loskadolina.info/dogodki/4-grajski-punkt/
SUMMARY:4. Grajski punkt
DESCRIPTION:Vabljeni na 4. Grajski punkt\, pri gradu Snežnik.\n\n
ATTACH;FMTTYPE=image/jpeg:https://www.loskadolina.info/wp-content/uploads/
 2026/04/SPLETNA-STRAN-2026-10.png
CATEGORIES:Kultura
LOCATION:Grad Snežnik\, \, 
X-APPLE-STRUCTURED-LOCATION;VALUE=URI;X-ADDRESS=\, ;X-APPLE-RADIUS=100;X-TI
 TLE=Grad Snežnik:geo:0,0
END:VEVENT
BEGIN:VEVENT
UID:659@loskadolina.info
DTSTART;TZID=Europe/Ljubljana:20260502T140000
DTEND;TZID=Europe/Ljubljana:20260502T180000
DTSTAMP:20260420T124717Z
URL:https://www.loskadolina.info/dogodki/mesecna-trznica-pri-gradu-sneznik
 -4/
SUMMARY:Mesečna tržnica pri gradu Snežnik
DESCRIPTION:Vabljeni\, da preživite prijetno sobotno popoldne v dobri dru
 žbi ob čudovitem gradu Snežnik.
ATTACH;FMTTYPE=image/jpeg:https://www.loskadolina.info/wp-content/uploads/
 2026/03/SPLETNA-STRAN-2026.png
CATEGORIES:Drugo
LOCATION:Grad Snežnik\, \, 
X-APPLE-STRUCTURED-LOCATION;VALUE=URI;X-ADDRESS=\, ;X-APPLE-RADIUS=100;X-TI
 TLE=Grad Snežnik:geo:0,0
END:VEVENT
BEGIN:VEVENT
UID:689@loskadolina.info
DTSTART;TZID=Europe/Ljubljana:20260504T100000
DTEND;TZID=Europe/Ljubljana:20260504T100000
DTSTAMP:20260422T070434Z
URL:https://www.loskadolina.info/dogodki/delavnica-izdelave-naravnih-cisti
 l/
SUMMARY:Delavnica izdelave naravnih čistil
DESCRIPTION:Izdelajte preprosto\, domače razkuževalno čistilo\, nežno p
 asto/ abrazivno sredstvo in osvežilec prostora iz neškodljivih sestavin.
 \n\nV ponedeljek\, 4. 5. 2026\, ob 10. uri\, v Medgeneracijskem centru Gab
 er.\n\n
ATTACH;FMTTYPE=image/jpeg:https://www.loskadolina.info/wp-content/uploads/
 2026/03/tocka-moci.jpg
CATEGORIES:Izobraževanje
LOCATION:MGC Gaber\, Cesta Notranjskega odreda 45b\, STARI TRG PRI LOŽU\, 
 1386\, Slovenia
X-APPLE-STRUCTURED-LOCATION;VALUE=URI;X-ADDRESS=Cesta Notranjskega odreda 4
 5b\, STARI TRG PRI LOŽU\, 1386\, Slovenia;X-APPLE-RADIUS=100;X-TITLE=MGC 
 Gaber:geo:0,0
END:VEVENT
BEGIN:VEVENT
UID:648@loskadolina.info
DTSTART;TZID=Europe/Ljubljana;VALUE=DATE:20260509
DTEND;TZID=Europe/Ljubljana;VALUE=DATE:20260510
DTSTAMP:20260310T123723Z
URL:https://www.loskadolina.info/dogodki/maj-pod-sneznikom-koncert-tambura
 skih-orkestrov/
SUMMARY:Maj pod Snežnikom - koncert tamburaških orkestrov
DESCRIPTION:
CATEGORIES:Kultura
END:VEVENT
BEGIN:VEVENT
UID:691@loskadolina.info
DTSTART;TZID=Europe/Ljubljana:20260509T190000
DTEND;TZID=Europe/Ljubljana:20260509T190000
DTSTAMP:20260423T084934Z
URL:https://www.loskadolina.info/dogodki/festival-maj-pod-sneznikom-2/
SUMMARY:Festival Maj pod Snežnikom
DESCRIPTION:V Kulturnem domu Stari trg pri Ložu bo potekal koncert\, na ka
 terem bodo nastopili Emonski tamburaši\, Denis Zajc\, Lukavi Luka in Šme
 ntane Muhe ter gostje Tamburaški sastav Bedem iz Bihaća.
ATTACH;FMTTYPE=image/jpeg:https://www.loskadolina.info/wp-content/uploads/
 2026/04/499629584_10162373403489318_1446456011663862895_n.jpg
CATEGORIES:Kultura
LOCATION:Kulturni dom Stari trg\, \, 
X-APPLE-STRUCTURED-LOCATION;VALUE=URI;X-ADDRESS=\, ;X-APPLE-RADIUS=100;X-TI
 TLE=Kulturni dom Stari trg:geo:0,0
END:VEVENT
BEGIN:VEVENT
UID:692@loskadolina.info
DTSTART;TZID=Europe/Ljubljana:20260510T140000
DTEND;TZID=Europe/Ljubljana:20260510T140000
DTSTAMP:20260423T085412Z
URL:https://www.loskadolina.info/dogodki/maj-pod-sneznikom-2026/
SUMMARY:Maj pod Snežnikom 2026
DESCRIPTION:Drugi koncert bo potekal v kleti Gradu Snežnik. Vstopnine ni\,
  zbirali se bodo prostovoljni prispevki. Degustacija na tej lokaciji ne bo
  organizirana.
ATTACH;FMTTYPE=image/jpeg:https://www.loskadolina.info/wp-content/uploads/
 2026/04/499906355_10162373439704318_1700763595485178335_n.jpg
CATEGORIES:Kultura
LOCATION:Grad Snežnik\, \, 
X-APPLE-STRUCTURED-LOCATION;VALUE=URI;X-ADDRESS=\, ;X-APPLE-RADIUS=100;X-TI
 TLE=Grad Snežnik:geo:0,0
END:VEVENT
BEGIN:VEVENT
UID:684@loskadolina.info
DTSTART;TZID=Europe/Ljubljana;VALUE=DATE:20260512
DTEND;TZID=Europe/Ljubljana;VALUE=DATE:20260513
DTSTAMP:20260420T122738Z
URL:https://www.loskadolina.info/dogodki/5-grajski-punkt/
SUMMARY:5. Grajski punkt
DESCRIPTION:Vabljeni na 5. Grajski punkt\, pri gradu Snežnik.\n\n
ATTACH;FMTTYPE=image/jpeg:https://www.loskadolina.info/wp-content/uploads/
 2026/04/SPLETNA-STRAN-2026-11.png
CATEGORIES:Kultura
LOCATION:Grad Snežnik\, \, 
X-APPLE-STRUCTURED-LOCATION;VALUE=URI;X-ADDRESS=\, ;X-APPLE-RADIUS=100;X-TI
 TLE=Grad Snežnik:geo:0,0
END:VEVENT
BEGIN:VEVENT
UID:688@loskadolina.info
DTSTART;TZID=Europe/Ljubljana:20260529T190000
DTEND;TZID=Europe/Ljubljana:20260529T200000
DTSTAMP:20260421T102627Z
URL:https://www.loskadolina.info/dogodki/zgodba-na-loskem-gradu/
SUMMARY:(Z)godba na Loškem gradu
DESCRIPTION:
CATEGORIES:Kultura
LOCATION:https://maps.app.goo.gl/1L25uK26QTfTYaxP8
END:VEVENT
BEGIN:VEVENT
UID:663@loskadolina.info
DTSTART;TZID=Europe/Ljubljana;VALUE=DATE:20260530
DTEND;TZID=Europe/Ljubljana;VALUE=DATE:20260531
DTSTAMP:20260320T144726Z
URL:https://www.loskadolina.info/dogodki/koncert-moskega-pevskega-zbora-ml
 aj/
SUMMARY:Koncert moškega pevskega zbora Mlaj
DESCRIPTION:Koncert bo potekal na grajskem dvorišču.
CATEGORIES:Kultura
LOCATION:Grad Snežnik\, \, 
X-APPLE-STRUCTURED-LOCATION;VALUE=URI;X-ADDRESS=\, ;X-APPLE-RADIUS=100;X-TI
 TLE=Grad Snežnik:geo:0,0
END:VEVENT
BEGIN:VEVENT
UID:414@loskadolina.info
DTSTART;TZID=Europe/Ljubljana:20260530T090000
DTEND;TZID=Europe/Ljubljana:20260530T160000
DTSTAMP:20260420T125242Z
URL:https://www.loskadolina.info/dogodki/ex-tempore/
SUMMARY:13. Ex-tempore: slikanje na prostem
DESCRIPTION:V sklopu ex-tempora vas vabimo k slikanju na prostem pod mentor
 stvom akad. slik. Božidarja Strmana
ATTACH;FMTTYPE=image/jpeg:https://www.loskadolina.info/wp-content/uploads/
 2026/04/Slikar_foto-Edvard-Sega-2021-scaled.jpg
CATEGORIES:Kultura
LOCATION:Domačija Kandare\, Dane\, \, 
X-APPLE-STRUCTURED-LOCATION;VALUE=URI;X-ADDRESS=\, ;X-APPLE-RADIUS=100;X-TI
 TLE=Domačija Kandare\, Dane:geo:0,0
END:VEVENT
BEGIN:VEVENT
UID:660@loskadolina.info
DTSTART;TZID=Europe/Ljubljana;VALUE=DATE:20260606
DTEND;TZID=Europe/Ljubljana;VALUE=DATE:20260607
DTSTAMP:20260320T080830Z
URL:https://www.loskadolina.info/dogodki/mesecna-trznica-pri-gradu-sneznik
 -5/
SUMMARY:Mesečna tržnica pri gradu Snežnik
DESCRIPTION:
ATTACH;FMTTYPE=image/jpeg:https://www.loskadolina.info/wp-content/uploads/
 2026/03/SPLETNA-STRAN-2026.png
CATEGORIES:Drugo
LOCATION:Grad Snežnik\, \, 
X-APPLE-STRUCTURED-LOCATION;VALUE=URI;X-ADDRESS=\, ;X-APPLE-RADIUS=100;X-TI
 TLE=Grad Snežnik:geo:0,0
END:VEVENT
BEGIN:VEVENT
UID:687@loskadolina.info
DTSTART;TZID=Europe/Ljubljana:20260611T190000
DTEND;TZID=Europe/Ljubljana:20260611T200000
DTSTAMP:20260421T102731Z
URL:https://www.loskadolina.info/dogodki/odprtje-razstave-13-ex-tempora-de
 zela-ostrnic/
SUMMARY:Odprtje razstave 13. ex-tempora Dežela ostrnic
DESCRIPTION:
CATEGORIES:Kultura
LOCATION:Grad Snežnik\, \, 
X-APPLE-STRUCTURED-LOCATION;VALUE=URI;X-ADDRESS=\, ;X-APPLE-RADIUS=100;X-TI
 TLE=Grad Snežnik:geo:0,0
END:VEVENT
BEGIN:VEVENT
UID:656@loskadolina.info
DTSTART;TZID=Europe/Ljubljana:20260613T150000
DTEND;TZID=Europe/Ljubljana:20260613T180000
DTSTAMP:20260316T141327Z
URL:https://www.loskadolina.info/dogodki/ob-kosnji/
SUMMARY:Ob košnji
DESCRIPTION:
CATEGORIES:Kultura,Turizem
LOCATION:Domačija Kandare\, Dane\, \, 
X-APPLE-STRUCTURED-LOCATION;VALUE=URI;X-ADDRESS=\, ;X-APPLE-RADIUS=100;X-TI
 TLE=Domačija Kandare\, Dane:geo:0,0
END:VEVENT
BEGIN:VEVENT
UID:686@loskadolina.info
DTSTART;TZID=Europe/Ljubljana;VALUE=DATE:20260621
DTEND;TZID=Europe/Ljubljana;VALUE=DATE:20260622
DTSTAMP:20260420T124143Z
URL:https://www.loskadolina.info/dogodki/to-kar-si-festival/
SUMMARY:TO KAR SI festival
DESCRIPTION:Vabljeni na prvi TO KAR SI festival\, ki bo potekal v organizac
 iji SINHRONE\, bioresonančne terapije in Zavoda Satia\, zavoda za učenje
 .\n\nVabljene družine z otroki – zanimivo bo!
CATEGORIES:Drugo,Za otroke
LOCATION:Grad Snežnik\, \, 
X-APPLE-STRUCTURED-LOCATION;VALUE=URI;X-ADDRESS=\, ;X-APPLE-RADIUS=100;X-TI
 TLE=Grad Snežnik:geo:0,0
END:VEVENT
BEGIN:VEVENT
UID:413@loskadolina.info
DTSTART;TZID=Europe/Ljubljana;VALUE=DATE:20260627
DTEND;TZID=Europe/Ljubljana;VALUE=DATE:20260628
DTSTAMP:20260310T123923Z
URL:https://www.loskadolina.info/dogodki/gasilska-veselica-pgd-iga-vas/
SUMMARY:Gasilska veselica PGD Iga vas
DESCRIPTION:
CATEGORIES:Drugo
LOCATION:Iga vas\, \, 
X-APPLE-STRUCTURED-LOCATION;VALUE=URI;X-ADDRESS=\, ;X-APPLE-RADIUS=100;X-TI
 TLE=Iga vas:geo:0,0
END:VEVENT
BEGIN:VEVENT
UID:412@loskadolina.info
DTSTART;TZID=Europe/Ljubljana;VALUE=DATE:20260704
DTEND;TZID=Europe/Ljubljana;VALUE=DATE:20260705
DTSTAMP:20260205T100107Z
URL:https://www.loskadolina.info/dogodki/naj-vas/
SUMMARY:Naj vas
DESCRIPTION:Sobota\, 4.7.2026\nDatum: 04.07.2026
CATEGORIES:Drugo
LOCATION:Več lokacij\, \, 
X-APPLE-STRUCTURED-LOCATION;VALUE=URI;X-ADDRESS=\, ;X-APPLE-RADIUS=100;X-TI
 TLE=Več lokacij:geo:0,0
END:VEVENT
BEGIN:VEVENT
UID:661@loskadolina.info
DTSTART;TZID=Europe/Ljubljana;VALUE=DATE:20260704
DTEND;TZID=Europe/Ljubljana;VALUE=DATE:20260705
DTSTAMP:20260320T080926Z
URL:https://www.loskadolina.info/dogodki/mesecna-trznica-pri-gradu-sneznik
 -6/
SUMMARY:Mesečna tržnica pri gradu Snežnik
DESCRIPTION:
ATTACH;FMTTYPE=image/jpeg:https://www.loskadolina.info/wp-content/uploads/
 2026/03/SPLETNA-STRAN-2026.png
CATEGORIES:Drugo
LOCATION:Grad Snežnik\, \, 
X-APPLE-STRUCTURED-LOCATION;VALUE=URI;X-ADDRESS=\, ;X-APPLE-RADIUS=100;X-TI
 TLE=Grad Snežnik:geo:0,0
END:VEVENT
BEGIN:VEVENT
UID:693@loskadolina.info
DTSTART;TZID=Europe/Ljubljana;VALUE=DATE:20260726
DTEND;TZID=Europe/Ljubljana;VALUE=DATE:20260727
DTSTAMP:20260423T083005Z
URL:https://www.loskadolina.info/dogodki/spominski-pohod-na-ogenjco-2/
SUMMARY:Spominski pohod na Ogenjco
DESCRIPTION:
CATEGORIES:Šport
LOCATION:Gornje Poljane\, \, 
X-APPLE-STRUCTURED-LOCATION;VALUE=URI;X-ADDRESS=\, ;X-APPLE-RADIUS=100;X-TI
 TLE=Gornje Poljane:geo:0,0
END:VEVENT
BEGIN:VEVENT
UID:662@loskadolina.info
DTSTART;TZID=Europe/Ljubljana;VALUE=DATE:20260808
DTEND;TZID=Europe/Ljubljana;VALUE=DATE:20260809
DTSTAMP:20260320T081018Z
URL:https://www.loskadolina.info/dogodki/mesecna-trznica-pri-gradu-sneznik
 -7/
SUMMARY:Mesečna tržnica pri gradu Snežnik
DESCRIPTION:
ATTACH;FMTTYPE=image/jpeg:https://www.loskadolina.info/wp-content/uploads/
 2026/03/SPLETNA-STRAN-2026.png
CATEGORIES:Drugo
LOCATION:Grad Snežnik\, \, 
X-APPLE-STRUCTURED-LOCATION;VALUE=URI;X-ADDRESS=\, ;X-APPLE-RADIUS=100;X-TI
 TLE=Grad Snežnik:geo:0,0
END:VEVENT
BEGIN:VEVENT
UID:677@loskadolina.info
DTSTART;TZID=Europe/Ljubljana:20260829T090000
DTEND;TZID=Europe/Ljubljana:20260829T150000
DTSTAMP:20260410T124132Z
URL:https://www.loskadolina.info/dogodki/drzavno-prvenstvo-v-poljskem-loko
 strelstvu-ah-pokal/
SUMMARY:Državno prvenstvo v poljskem lokostrelstvu +AH pokal
DESCRIPTION:
ATTACH;FMTTYPE=image/jpeg:https://www.loskadolina.info/wp-content/uploads/
 2026/04/SPLETNA-STRAN-2026-7.png
CATEGORIES:Šport
LOCATION:Grad Snežnik\, \, 
X-APPLE-STRUCTURED-LOCATION;VALUE=URI;X-ADDRESS=\, ;X-APPLE-RADIUS=100;X-TI
 TLE=Grad Snežnik:geo:0,0
END:VEVENT
BEGIN:VEVENT
UID:679@loskadolina.info
DTSTART;TZID=Europe/Ljubljana:20260904T170000
DTEND;TZID=Europe/Ljubljana:20260904T170000
DTSTAMP:20260417T084728Z
URL:https://www.loskadolina.info/dogodki/koncert-en-big-band/
SUMMARY:Koncert: En big band
DESCRIPTION:
CATEGORIES:Kultura
LOCATION:Grad Snežnik\, \, 
X-APPLE-STRUCTURED-LOCATION;VALUE=URI;X-ADDRESS=\, ;X-APPLE-RADIUS=100;X-TI
 TLE=Grad Snežnik:geo:0,0
END:VEVENT
BEGIN:VEVENT
UID:411@loskadolina.info
DTSTART;TZID=Europe/Ljubljana;VALUE=DATE:20260926
DTEND;TZID=Europe/Ljubljana;VALUE=DATE:20260927
DTSTAMP:20260310T124727Z
URL:https://www.loskadolina.info/dogodki/45-polharska-noc/
SUMMARY:45. Polharska noč
DESCRIPTION:Vabljeni na že tradicionalno 45. Polharsko noč!
ATTACH;FMTTYPE=image/jpeg:https://www.loskadolina.info/wp-content/uploads/
 2026/02/2026-1.png
CATEGORIES:Kultura,Turizem
LOCATION:Grad Snežnik\, \, 
X-APPLE-STRUCTURED-LOCATION;VALUE=URI;X-ADDRESS=\, ;X-APPLE-RADIUS=100;X-TI
 TLE=Grad Snežnik:geo:0,0
END:VEVENT
BEGIN:VEVENT
UID:410@loskadolina.info
DTSTART;TZID=Europe/Ljubljana;VALUE=DATE:20261018
DTEND;TZID=Europe/Ljubljana;VALUE=DATE:20261019
DTSTAMP:20260310T124929Z
URL:https://www.loskadolina.info/dogodki/15-pohod-po-loski-dolini/
SUMMARY:15. Pohod po Loški dolini
DESCRIPTION:Vabljeni na 15. Pohod po Loški dolini!
ATTACH;FMTTYPE=image/jpeg:https://www.loskadolina.info/wp-content/uploads/
 2026/02/Vabljeni-na-5.-Pohod-po-Loski-dolini.jpg
CATEGORIES:Šport,Turizem
LOCATION:Lož\, \, 
X-APPLE-STRUCTURED-LOCATION;VALUE=URI;X-ADDRESS=\, ;X-APPLE-RADIUS=100;X-TI
 TLE=Lož:geo:0,0
END:VEVENT
BEGIN:VEVENT
UID:655@loskadolina.info
DTSTART;TZID=Europe/Ljubljana;VALUE=DATE:20261218
DTEND;TZID=Europe/Ljubljana;VALUE=DATE:20261220
DTSTAMP:20260316T141228Z
URL:https://www.loskadolina.info/dogodki/veseli-december-ogrevan-sotor-v-l
 ozu-2/
SUMMARY:Veseli december - ogrevan šotor v Ložu
DESCRIPTION:
CATEGORIES:Drugo
LOCATION:Lož\, \, 
X-APPLE-STRUCTURED-LOCATION;VALUE=URI;X-ADDRESS=\, ;X-APPLE-RADIUS=100;X-TI
 TLE=Lož:geo:0,0
END:VEVENT
BEGIN:VEVENT
UID:409@loskadolina.info
DTSTART;TZID=Europe/Ljubljana;VALUE=DATE:20261219
DTEND;TZID=Europe/Ljubljana;VALUE=DATE:20261220
DTSTAMP:20260310T125205Z
URL:https://www.loskadolina.info/dogodki/bozicno-novoletni-sejem/
SUMMARY:Božično-novoletni sejem
DESCRIPTION:
CATEGORIES:Drugo
LOCATION:Tržni prostor\, Stari trg pri Ložu\, \, 
X-APPLE-STRUCTURED-LOCATION;VALUE=URI;X-ADDRESS=\, ;X-APPLE-RADIUS=100;X-TI
 TLE=Tržni prostor\, Stari trg pri Ložu:geo:0,0
END:VEVENT
BEGIN:VEVENT
UID:408@loskadolina.info
DTSTART;TZID=Europe/Ljubljana;VALUE=DATE:20261226
DTEND;TZID=Europe/Ljubljana;VALUE=DATE:20261227
DTSTAMP:20260310T125332Z
URL:https://www.loskadolina.info/dogodki/dobrodelni-novoletni-tek-in-hoja/
SUMMARY:Dobrodelni novoletni tek in hoja
DESCRIPTION:26. december 2026OŠ Stari trg pri Ložu\nDatum: 26.12.2026
CATEGORIES:Šport
LOCATION:OŠ Stari trg\, \, 
X-APPLE-STRUCTURED-LOCATION;VALUE=URI;X-ADDRESS=\, ;X-APPLE-RADIUS=100;X-TI
 TLE=OŠ Stari trg:geo:0,0
END:VEVENT
BEGIN:VEVENT
UID:407@loskadolina.info
DTSTART;TZID=Europe/Ljubljana;VALUE=DATE:20261226
DTEND;TZID=Europe/Ljubljana;VALUE=DATE:20261227
DTSTAMP:20260310T125429Z
URL:https://www.loskadolina.info/dogodki/novoletni-koncert-pihalnega-orkes
 tra-kovinoplastika-loz/
SUMMARY:Novoletni koncert Pihalnega orkestra Kovinoplastika Lož
DESCRIPTION:
CATEGORIES:Kultura
LOCATION:OŠ Stari trg\, \, 
X-APPLE-STRUCTURED-LOCATION;VALUE=URI;X-ADDRESS=\, ;X-APPLE-RADIUS=100;X-TI
 TLE=OŠ Stari trg:geo:0,0
END:VEVENT
BEGIN:VTIMEZONE
TZID:Europe/Ljubljana
X-LIC-LOCATION:Europe/Ljubljana
BEGIN:STANDARD
DTSTART:20251026T020000
TZOFFSETFROM:+0200
TZOFFSETTO:+0100
TZNAME:CET
END:STANDARD
BEGIN:DAYLIGHT
DTSTART:20260329T030000
TZOFFSETFROM:+0100
TZOFFSETTO:+0200
TZNAME:CEST
END:DAYLIGHT
BEGIN:STANDARD
DTSTART:20261025T020000
TZOFFSETFROM:+0200
TZOFFSETTO:+0100
TZNAME:CET
END:STANDARD
END:VTIMEZONE
END:VCALENDAR